BEGIN:VCALENDAR
VERSION:2.0
PRODID:icalendar-ruby
CALSCALE:GREGORIAN
METHOD:PUBLISH
BEGIN:VEVENT
DTSTAMP:20260419T132710Z
UID:151-245917@ridgeviewbiblechurch.com
DTSTART:20251001T223000Z
DTEND:20251001T233000Z
CLASS:PUBLIC
CREATED:20251203T164004
DESCRIPTION:At 4:30 PM\, on Wednesdays\, there will be a ladies' bible stud
 y on Psalm 139 at Kristen Huls' house.  In addition to the bible\, they w
 ill be using the book "Known &amp\; Loved" by Glenna Marshal.  If you hav
 e any questions\, contact Kristen Huls.
LAST-MODIFIED:20251203T164004
LOCATION:Kristen Huls's House
SUMMARY:Ladies Bible Study
URL;VALUE=URI:https://ridgeview.church/events/ladies-bible-study--151/2025-
 10-01
ATTACH;FILENAME=Known & Loved.jpg;FMTTYPE=image/jpeg:https://dq5pwpg1q8ru0.
 cloudfront.net/2025/08/31/15/33/07/fc33d88b-8d68-40e0-b904-4b086bdbbac8/Kn
 own%20&%20Loved.jpg
END:VEVENT
END:VCALENDAR
